BEGIN:VCALENDAR
VERSION:2.0
PRODID:-//www.health4youths.org//NONSGML kigkonsult.se iCalcreator 2.30.10/
 /
CALSCALE:GREGORIAN
METHOD:PUBLISH
UID:f31f446b-9b85-4895-9138-7a320a900cfb
X-WR-CALDESC:New York City Football Club Saturday Night Lights.\n5pm - 9pm 
 at PS 57\n140 Palma Drive\, Staten Island
X-WR-RELCALID:4068b72f922f27239ed29d89935bf6bb
X-WR-TIMEZONE:America/New_York
BEGIN:VTIMEZONE
TZID:America/New_York
BEGIN:STANDARD
TZNAME:EST
DTSTART:20231105T020000
TZOFFSETFROM:-0400
TZOFFSETTO:-0500
RDATE:20241103T020000
RDATE:20251102T020000
END:STANDARD
BEGIN:DAYLIGHT
TZNAME:EDT
DTSTART:20240310T020000
TZOFFSETFROM:-0500
TZOFFSETTO:-0400
RDATE:20250309T020000
RDATE:20260308T020000
END:DAYLIGHT
END:VTIMEZONE
BEGIN:VEVENT
UID:1f6bf046-83a8-4504-afa5-df87bb6ba259
DTSTAMP:20260423T003222Z
DESCRIPTION:New York City Football Club Saturday Night Lights.\n5pm - 9pm a
 t PS 57\n140 Palma Drive\, Staten Island
DTSTART;TZID=America/New_York:20241026T170000
DTEND;TZID=America/New_York:20241026T210000
LOCATION:PS 57
SUMMARY:New York City Football Club CITC Saturday Night Lights
END:VEVENT
END:VCALENDAR
