BEGIN:VCALENDAR
VERSION:2.0
PRODID:-//www.health4youths.org//NONSGML kigkonsult.se iCalcreator 2.30.10/
 /
CALSCALE:GREGORIAN
METHOD:PUBLISH
UID:bc7326b3-945e-48f9-bc23-e11ed57ac59f
X-WR-CALDESC:Please click on the link below for details:\nhttps://www.event
 brite.com/e/lt-lia-playground-little-free-library-maintenance-schedule-tic
 kets-18586386382
X-WR-RELCALID:59c8520a5f122eb2015a23e8e694f64f
X-WR-TIMEZONE:America/New_York
BEGIN:VTIMEZONE
TZID:America/New_York
BEGIN:STANDARD
TZNAME:EST
DTSTART:20241103T020000
TZOFFSETFROM:-0400
TZOFFSETTO:-0500
RDATE:20251102T020000
END:STANDARD
BEGIN:DAYLIGHT
TZNAME:EDT
DTSTART:20240310T020000
TZOFFSETFROM:-0500
TZOFFSETTO:-0400
RDATE:20250309T020000
RDATE:20260308T020000
END:DAYLIGHT
END:VTIMEZONE
BEGIN:VEVENT
UID:fe880a5a-fc13-4cf2-ae53-2864cb4a1e7b
DTSTAMP:20260422T084232Z
DESCRIPTION:Please click on the link below for details:\nhttps://www.eventb
 rite.com/e/lt-lia-playground-little-free-library-maintenance-schedule-tick
 ets-18586386382
DTSTART;TZID=America/New_York:20241112T150000
DTEND;TZID=America/New_York:20241112T180000
LOCATION:St. Marks Place and Wall Street - Staten Island
SUMMARY:Little Free Library Maintenance
END:VEVENT
END:VCALENDAR
