BEGIN:VCALENDAR
VERSION:2.0
PRODID:-//www.health4youths.org//NONSGML kigkonsult.se iCalcreator 2.30.10/
 /
CALSCALE:GREGORIAN
METHOD:PUBLISH
UID:b9efa587-f415-435b-b845-f77391c5e054
X-WR-CALDESC:
X-WR-RELCALID:4c610198338747cfeef3f7eb1b8f0172
X-WR-TIMEZONE:America/New_York
BEGIN:VTIMEZONE
TZID:America/New_York
BEGIN:STANDARD
TZNAME:EST
DTSTART:20241103T020000
TZOFFSETFROM:-0400
TZOFFSETTO:-0500
RDATE:20251102T020000
END:STANDARD
BEGIN:DAYLIGHT
TZNAME:EDT
DTSTART:20240310T020000
TZOFFSETFROM:-0500
TZOFFSETTO:-0400
RDATE:20250309T020000
RDATE:20260308T020000
END:DAYLIGHT
END:VTIMEZONE
BEGIN:VEVENT
UID:96e93122-d3a0-4c50-8d97-ae75030febdb
DTSTAMP:20260420T164357Z
DESCRIPTION:
DTSTART;TZID=America/New_York:20241117T150000
DTEND;TZID=America/New_York:20241117T160000
LOCATION:
SUMMARY:College Readiness for the Family
END:VEVENT
END:VCALENDAR
