BEGIN:VCALENDAR
VERSION:2.0
PRODID:-//www.health4youths.org//NONSGML kigkonsult.se iCalcreator 2.30.10/
 /
CALSCALE:GREGORIAN
METHOD:PUBLISH
UID:67e2d01e-7eb5-40b8-a558-8060f7d7d879
X-WR-CALDESC:Please click on the link below for details:\nhttps://www.event
 brite.com/e/lt-lia-playground-little-free-library-maintenance-schedule-tic
 kets-18586386382
X-WR-RELCALID:1a38963a1bb6cf8727d41129f9ab3f3e
X-WR-TIMEZONE:America/New_York
BEGIN:VTIMEZONE
TZID:America/New_York
BEGIN:STANDARD
TZNAME:EST
DTSTART:20251102T020000
TZOFFSETFROM:-0400
TZOFFSETTO:-0500
RDATE:20261101T020000
END:STANDARD
BEGIN:DAYLIGHT
TZNAME:EDT
DTSTART:20250309T020000
TZOFFSETFROM:-0500
TZOFFSETTO:-0400
RDATE:20260308T020000
RDATE:20270314T020000
END:DAYLIGHT
END:VTIMEZONE
BEGIN:VEVENT
UID:dad17a0e-c7de-4d7c-a825-e1aa4cb07300
DTSTAMP:20260423T090239Z
DESCRIPTION:Please click on the link below for details:\nhttps://www.eventb
 rite.com/e/lt-lia-playground-little-free-library-maintenance-schedule-tick
 ets-18586386382
DTSTART;TZID=America/New_York:20260306T150000
DTEND;TZID=America/New_York:20260306T180000
LOCATION:St. Marks Place and Wall Street - Staten Island
SUMMARY:Little Free Library Maintenance
END:VEVENT
END:VCALENDAR
