BEGIN:VCALENDAR
VERSION:2.0
PRODID:-//www.health4youths.org//NONSGML kigkonsult.se iCalcreator 2.30.10/
 /
CALSCALE:GREGORIAN
METHOD:PUBLISH
UID:81f07833-4431-447f-b2b1-639084ddba11
X-WR-CALDESC:
X-WR-RELCALID:538d618e9415564e03a3b156bf545e7c
X-WR-TIMEZONE:America/New_York
BEGIN:VTIMEZONE
TZID:America/New_York
BEGIN:STANDARD
TZNAME:EST
DTSTART:20251102T020000
TZOFFSETFROM:-0400
TZOFFSETTO:-0500
RDATE:20261101T020000
END:STANDARD
BEGIN:DAYLIGHT
TZNAME:EDT
DTSTART:20260308T020000
TZOFFSETFROM:-0500
TZOFFSETTO:-0400
RDATE:20270314T020000
END:DAYLIGHT
END:VTIMEZONE
BEGIN:VEVENT
UID:4d70ad47-0ab8-4c47-8eb9-df640e1c66ce
DTSTAMP:20260420T101511Z
DESCRIPTION:
DTSTART;TZID=America/New_York:20260315T150000
DTEND;TZID=America/New_York:20260315T160000
LOCATION:
SUMMARY:College Readiness for the Family
END:VEVENT
END:VCALENDAR
