BEGIN:VCALENDAR
VERSION:2.0
PRODID:-//www.health4youths.org//NONSGML kigkonsult.se iCalcreator 2.30.10/
 /
CALSCALE:GREGORIAN
METHOD:PUBLISH
UID:d4bf7348-0036-407b-ac12-3992e954aef0
X-WR-CALDESC:Please click on the link below for details:\nhttps://www.event
 brite.com/e/lt-lia-playground-little-free-library-maintenance-schedule-tic
 kets-18586386382
X-WR-RELCALID:6d780d50dcbfe000dfcae6c2c0734a5c
X-WR-TIMEZONE:America/New_York
BEGIN:VTIMEZONE
TZID:America/New_York
BEGIN:STANDARD
TZNAME:EST
DTSTART:20251102T020000
TZOFFSETFROM:-0400
TZOFFSETTO:-0500
RDATE:20261101T020000
END:STANDARD
BEGIN:DAYLIGHT
TZNAME:EDT
DTSTART:20260308T020000
TZOFFSETFROM:-0500
TZOFFSETTO:-0400
RDATE:20270314T020000
END:DAYLIGHT
END:VTIMEZONE
BEGIN:VEVENT
UID:dc78bf6f-dffc-4b37-b771-e4d8cb5333a6
DTSTAMP:20260421T075957Z
DESCRIPTION:Please click on the link below for details:\nhttps://www.eventb
 rite.com/e/lt-lia-playground-little-free-library-maintenance-schedule-tick
 ets-18586386382
DTSTART;TZID=America/New_York:20260316T150000
DTEND;TZID=America/New_York:20260316T180000
LOCATION:St. Marks Place and Wall Street - Staten Island
SUMMARY:Little Free Library Maintenance
END:VEVENT
END:VCALENDAR
