BEGIN:VCALENDAR
VERSION:2.0
PRODID:-//www.health4youths.org//NONSGML kigkonsult.se iCalcreator 2.30.10/
 /
CALSCALE:GREGORIAN
METHOD:PUBLISH
UID:4120b0bc-1c36-4b68-92c6-f94a5f95abcc
X-WR-CALDESC:New York City Football Club Saturday Night Lights.\n5pm - 9pm 
 at PS 57\n140 Palma Drive\, Staten Island
X-WR-RELCALID:899aaf22bac15f83d00fef1d50c61f3f
X-WR-TIMEZONE:America/New_York
BEGIN:VTIMEZONE
TZID:America/New_York
BEGIN:STANDARD
TZNAME:EST
DTSTART:20251102T020000
TZOFFSETFROM:-0400
TZOFFSETTO:-0500
RDATE:20261101T020000
END:STANDARD
BEGIN:DAYLIGHT
TZNAME:EDT
DTSTART:20260308T020000
TZOFFSETFROM:-0500
TZOFFSETTO:-0400
RDATE:20270314T020000
END:DAYLIGHT
END:VTIMEZONE
BEGIN:VEVENT
UID:5dae1004-546f-452c-8796-8932e461ffe9
DTSTAMP:20260420T102409Z
DESCRIPTION:New York City Football Club Saturday Night Lights.\n5pm - 9pm a
 t PS 57\n140 Palma Drive\, Staten Island
DTSTART;TZID=America/New_York:20260328T170000
DTEND;TZID=America/New_York:20260328T210000
LOCATION:PS 57
SUMMARY:New York City Football Club CITC Saturday Night Lights
END:VEVENT
END:VCALENDAR
