BEGIN:VCALENDAR
VERSION:2.0
PRODID:-//www.health4youths.org//NONSGML kigkonsult.se iCalcreator 2.30.10/
 /
CALSCALE:GREGORIAN
METHOD:PUBLISH
UID:bb3b7a1f-beaa-4351-b89a-2ab7846d2fcf
X-WR-CALDESC:Please click on the link below for details:\nhttps://www.event
 brite.com/e/lt-lia-playground-little-free-library-maintenance-schedule-tic
 kets-18586386382
X-WR-RELCALID:b4ac36310319e9fe4336b9ef331d77ef
X-WR-TIMEZONE:America/New_York
BEGIN:VTIMEZONE
TZID:America/New_York
BEGIN:STANDARD
TZNAME:EST
DTSTART:20241103T020000
TZOFFSETFROM:-0400
TZOFFSETTO:-0500
RDATE:20251102T020000
END:STANDARD
BEGIN:DAYLIGHT
TZNAME:EDT
DTSTART:20240310T020000
TZOFFSETFROM:-0500
TZOFFSETTO:-0400
RDATE:20250309T020000
RDATE:20260308T020000
END:DAYLIGHT
END:VTIMEZONE
BEGIN:VEVENT
UID:4ec8ad4f-70f5-4788-a72f-52e8576209fd
DTSTAMP:20260425T033005Z
DESCRIPTION:Please click on the link below for details:\nhttps://www.eventb
 rite.com/e/lt-lia-playground-little-free-library-maintenance-schedule-tick
 ets-18586386382
DTSTART;TZID=America/New_York:20241124T150000
DTEND;TZID=America/New_York:20241124T180000
LOCATION:St. Marks Place and Wall Street - Staten Island
SUMMARY:Little Free Library Maintenance
END:VEVENT
END:VCALENDAR
