BEGIN:VCALENDAR
VERSION:2.0
PRODID:-//www.health4youths.org//NONSGML kigkonsult.se iCalcreator 2.30.10/
 /
CALSCALE:GREGORIAN
METHOD:PUBLISH
UID:3c6b52a6-f211-4470-a2b0-c9f16e1b6f81
X-WR-CALDESC:Please click on the link below for details:\nhttps://www.event
 brite.com/e/lt-lia-playground-little-free-library-maintenance-schedule-tic
 kets-18586386382
X-WR-RELCALID:b79107692dce92cd97ec2b66de5c47de
X-WR-TIMEZONE:America/New_York
BEGIN:VTIMEZONE
TZID:America/New_York
BEGIN:STANDARD
TZNAME:EST
DTSTART:20241103T020000
TZOFFSETFROM:-0400
TZOFFSETTO:-0500
RDATE:20251102T020000
END:STANDARD
BEGIN:DAYLIGHT
TZNAME:EDT
DTSTART:20240310T020000
TZOFFSETFROM:-0500
TZOFFSETTO:-0400
RDATE:20250309T020000
RDATE:20260308T020000
END:DAYLIGHT
END:VTIMEZONE
BEGIN:VEVENT
UID:d9202b00-b95f-4d10-ba07-c424bdd4be66
DTSTAMP:20260423T104506Z
DESCRIPTION:Please click on the link below for details:\nhttps://www.eventb
 rite.com/e/lt-lia-playground-little-free-library-maintenance-schedule-tick
 ets-18586386382
DTSTART;TZID=America/New_York:20250109T150000
DTEND;TZID=America/New_York:20250109T180000
LOCATION:St. Marks Place and Wall Street - Staten Island
SUMMARY:Little Free Library Maintenance
END:VEVENT
END:VCALENDAR
