BEGIN:VCALENDAR
VERSION:2.0
PRODID:-//www.health4youths.org//NONSGML kigkonsult.se iCalcreator 2.30.10/
 /
CALSCALE:GREGORIAN
METHOD:PUBLISH
UID:af721d27-0fd0-4d75-ae68-144b3aab5bbf
X-WR-CALDESC:
X-WR-RELCALID:e7559c999f9450b3aeb438ed16fe5e10
X-WR-TIMEZONE:America/New_York
BEGIN:VTIMEZONE
TZID:America/New_York
BEGIN:STANDARD
TZNAME:EST
DTSTART:20251102T020000
TZOFFSETFROM:-0400
TZOFFSETTO:-0500
RDATE:20261101T020000
END:STANDARD
BEGIN:DAYLIGHT
TZNAME:EDT
DTSTART:20260308T020000
TZOFFSETFROM:-0500
TZOFFSETTO:-0400
RDATE:20270314T020000
END:DAYLIGHT
END:VTIMEZONE
BEGIN:VEVENT
UID:dc4f72bc-e3a1-4c6d-9a7b-7789750fb0ec
DTSTAMP:20260419T125752Z
DESCRIPTION:
DTSTART;TZID=America/New_York:20260403T100000
DTEND;TZID=America/New_York:20260403T120000
LOCATION:120 Victory Boulevard\, Staten Island\, NY 10301 US
SUMMARY:Weekly Pantry at H.E.A.L.T.H for Youths
END:VEVENT
END:VCALENDAR
