BEGIN:VCALENDAR
VERSION:2.0
PRODID:-//www.health4youths.org//NONSGML kigkonsult.se iCalcreator 2.30.10/
 /
CALSCALE:GREGORIAN
METHOD:PUBLISH
UID:3bc9904d-aa41-4034-9e1d-2ba05aaf267f
X-WR-CALDESC:
X-WR-RELCALID:0b2523ee49a96cc322b1166ae24c192e
X-WR-TIMEZONE:America/New_York
BEGIN:VTIMEZONE
TZID:America/New_York
BEGIN:STANDARD
TZNAME:EST
DTSTART:20251102T020000
TZOFFSETFROM:-0400
TZOFFSETTO:-0500
RDATE:20261101T020000
END:STANDARD
BEGIN:DAYLIGHT
TZNAME:EDT
DTSTART:20260308T020000
TZOFFSETFROM:-0500
TZOFFSETTO:-0400
RDATE:20270314T020000
END:DAYLIGHT
END:VTIMEZONE
BEGIN:VEVENT
UID:93a72d1b-103f-4359-a80a-6d181e8b2092
DTSTAMP:20260419T125500Z
DESCRIPTION:
DTSTART;TZID=America/New_York:20260417T100000
DTEND;TZID=America/New_York:20260417T120000
LOCATION:120 Victory Boulevard\, Staten Island\, NY 10301 US
SUMMARY:Weekly Pantry at H.E.A.L.T.H for Youths
END:VEVENT
END:VCALENDAR
