BEGIN:VCALENDAR
VERSION:2.0
PRODID:-//www.health4youths.org//NONSGML kigkonsult.se iCalcreator 2.30.10/
 /
CALSCALE:GREGORIAN
METHOD:PUBLISH
UID:35c5c801-ad33-418b-b476-d8d99d9aa180
X-WR-CALDESC:New York City Football Club Saturday Night Lights.\n5pm - 9pm 
 at PS 57\n140 Palma Drive\, Staten Island
X-WR-RELCALID:2e1816cac3cc7209acda0e50f3c0f473
X-WR-TIMEZONE:America/New_York
BEGIN:VTIMEZONE
TZID:America/New_York
BEGIN:STANDARD
TZNAME:EST
DTSTART:20251102T020000
TZOFFSETFROM:-0400
TZOFFSETTO:-0500
RDATE:20261101T020000
END:STANDARD
BEGIN:DAYLIGHT
TZNAME:EDT
DTSTART:20260308T020000
TZOFFSETFROM:-0500
TZOFFSETTO:-0400
RDATE:20270314T020000
END:DAYLIGHT
END:VTIMEZONE
BEGIN:VEVENT
UID:c48d0df2-c414-4a05-b3b5-f3f4c00045fc
DTSTAMP:20260419T131135Z
DESCRIPTION:New York City Football Club Saturday Night Lights.\n5pm - 9pm a
 t PS 57\n140 Palma Drive\, Staten Island
DTSTART;TZID=America/New_York:20260418T170000
DTEND;TZID=America/New_York:20260418T210000
LOCATION:PS 57
SUMMARY:New York City Football Club CITC Saturday Night Lights
END:VEVENT
END:VCALENDAR
