BEGIN:VCALENDAR
VERSION:2.0
PRODID:-//www.health4youths.org//NONSGML kigkonsult.se iCalcreator 2.30.10/
 /
CALSCALE:GREGORIAN
METHOD:PUBLISH
UID:2eaacdb6-f9db-4f11-b4c6-713e83ffbeb0
X-WR-CALDESC:
X-WR-RELCALID:c00aa1d4e703e50f5e2b68d084881bbb
X-WR-TIMEZONE:America/New_York
BEGIN:VTIMEZONE
TZID:America/New_York
BEGIN:STANDARD
TZNAME:EST
DTSTART:20251102T020000
TZOFFSETFROM:-0400
TZOFFSETTO:-0500
RDATE:20261101T020000
END:STANDARD
BEGIN:DAYLIGHT
TZNAME:EDT
DTSTART:20260308T020000
TZOFFSETFROM:-0500
TZOFFSETTO:-0400
RDATE:20270314T020000
END:DAYLIGHT
END:VTIMEZONE
BEGIN:VEVENT
UID:3fcefff5-87d9-4d8e-925f-7c23a6f02e28
DTSTAMP:20260419T130541Z
DESCRIPTION:
DTSTART;TZID=America/New_York:20260426T110000
DTEND;TZID=America/New_York:20260426T120000
LOCATION:120 Victory Boulevard\, Staten Island\, NY 10301 US
SUMMARY:Guest Chef Sundays
END:VEVENT
END:VCALENDAR
