BEGIN:VCALENDAR
VERSION:2.0
PRODID:-//www.health4youths.org//NONSGML kigkonsult.se iCalcreator 2.30.10/
 /
CALSCALE:GREGORIAN
METHOD:PUBLISH
UID:40665ae9-5adf-44fe-8e4c-a59d334b444e
X-WR-CALDESC:
X-WR-RELCALID:cfd97cc7bb06a15f3a7c25b22e8b0a98
X-WR-TIMEZONE:America/New_York
BEGIN:VTIMEZONE
TZID:America/New_York
BEGIN:STANDARD
TZNAME:EST
DTSTART:20251102T020000
TZOFFSETFROM:-0400
TZOFFSETTO:-0500
RDATE:20261101T020000
END:STANDARD
BEGIN:DAYLIGHT
TZNAME:EDT
DTSTART:20260308T020000
TZOFFSETFROM:-0500
TZOFFSETTO:-0400
RDATE:20270314T020000
END:DAYLIGHT
END:VTIMEZONE
BEGIN:VEVENT
UID:5ff3a412-f03f-4960-91c5-16d5054f65b5
DTSTAMP:20260419T130633Z
DESCRIPTION:
DTSTART;TZID=America/New_York:20260426T130000
DTEND;TZID=America/New_York:20260426T140000
LOCATION:120 Victory Boulevard\, Staten Island\, NY 10301 US
SUMMARY:Tea and Crochet
END:VEVENT
END:VCALENDAR
