BEGIN:VCALENDAR
VERSION:2.0
PRODID:-//www.health4youths.org//NONSGML kigkonsult.se iCalcreator 2.30.10/
 /
CALSCALE:GREGORIAN
METHOD:PUBLISH
UID:bbdd4859-9090-458a-b309-91f225c57631
X-WR-CALDESC:New York City Football Club Saturday Night Lights.\n5pm - 9pm 
 at PS 57\n140 Palma Drive\, Staten Island
X-WR-RELCALID:3f272e0ad06fab139dd1c054a56bb444
X-WR-TIMEZONE:America/New_York
BEGIN:VTIMEZONE
TZID:America/New_York
BEGIN:STANDARD
TZNAME:EST
DTSTART:20251102T020000
TZOFFSETFROM:-0400
TZOFFSETTO:-0500
RDATE:20261101T020000
END:STANDARD
BEGIN:DAYLIGHT
TZNAME:EDT
DTSTART:20260308T020000
TZOFFSETFROM:-0500
TZOFFSETTO:-0400
RDATE:20270314T020000
END:DAYLIGHT
END:VTIMEZONE
BEGIN:VEVENT
UID:7a72aa71-a54f-4f08-af48-d18d327bf6a5
DTSTAMP:20260421T105746Z
DESCRIPTION:New York City Football Club Saturday Night Lights.\n5pm - 9pm a
 t PS 57\n140 Palma Drive\, Staten Island
DTSTART;TZID=America/New_York:20260502T170000
DTEND;TZID=America/New_York:20260502T210000
LOCATION:PS 57
SUMMARY:New York City Football Club CITC Saturday Night Lights
END:VEVENT
END:VCALENDAR
