BEGIN:VCALENDAR
VERSION:2.0
PRODID:-//www.health4youths.org//NONSGML kigkonsult.se iCalcreator 2.30.10/
 /
CALSCALE:GREGORIAN
METHOD:PUBLISH
UID:781c274f-04d4-4d78-a61d-a0546435aa3c
X-WR-CALDESC:New York City Football Club Saturday Night Lights.\n5pm - 9pm 
 at PS 57\n140 Palma Drive\, Staten Island
X-WR-RELCALID:5e2d7cc2920e6d6cac4ccdb8542b2401
X-WR-TIMEZONE:America/New_York
BEGIN:VTIMEZONE
TZID:America/New_York
BEGIN:STANDARD
TZNAME:EST
DTSTART:20251102T020000
TZOFFSETFROM:-0400
TZOFFSETTO:-0500
RDATE:20261101T020000
RDATE:20271107T020000
END:STANDARD
BEGIN:DAYLIGHT
TZNAME:EDT
DTSTART:20260308T020000
TZOFFSETFROM:-0500
TZOFFSETTO:-0400
RDATE:20270314T020000
END:DAYLIGHT
END:VTIMEZONE
BEGIN:VEVENT
UID:3327d8b3-7dbb-4bae-b175-e5641ccb5584
DTSTAMP:20260421T105744Z
DESCRIPTION:New York City Football Club Saturday Night Lights.\n5pm - 9pm a
 t PS 57\n140 Palma Drive\, Staten Island
DTSTART;TZID=America/New_York:20260516T170000
DTEND;TZID=America/New_York:20260516T210000
LOCATION:PS 57
SUMMARY:New York City Football Club CITC Saturday Night Lights
END:VEVENT
END:VCALENDAR
