BEGIN:VCALENDAR
VERSION:2.0
PRODID:-//www.health4youths.org//NONSGML kigkonsult.se iCalcreator 2.30.10/
 /
CALSCALE:GREGORIAN
METHOD:PUBLISH
UID:c8050dc0-a232-47e8-a2f1-4ace61aa5dfc
X-WR-CALDESC:
X-WR-RELCALID:300efa3296a470123d9afd4581713f5f
X-WR-TIMEZONE:America/New_York
BEGIN:VTIMEZONE
TZID:America/New_York
BEGIN:STANDARD
TZNAME:EST
DTSTART:20251102T020000
TZOFFSETFROM:-0400
TZOFFSETTO:-0500
RDATE:20261101T020000
RDATE:20271107T020000
END:STANDARD
BEGIN:DAYLIGHT
TZNAME:EDT
DTSTART:20260308T020000
TZOFFSETFROM:-0500
TZOFFSETTO:-0400
RDATE:20270314T020000
END:DAYLIGHT
END:VTIMEZONE
BEGIN:VEVENT
UID:edeb8517-9641-4383-adcc-457ceead4524
DTSTAMP:20260421T105909Z
DESCRIPTION:
DTSTART;TZID=America/New_York:20260522T100000
DTEND;TZID=America/New_York:20260522T120000
LOCATION:120 Victory Boulevard\, Staten Island\, NY 10301 US
SUMMARY:Weekly Pantry at H.E.A.L.T.H for Youths
END:VEVENT
END:VCALENDAR
