BEGIN:VCALENDAR
VERSION:2.0
PRODID:-//www.health4youths.org//NONSGML kigkonsult.se iCalcreator 2.30.10/
 /
CALSCALE:GREGORIAN
METHOD:PUBLISH
UID:19fd6639-843f-41ef-9f91-2d3644d0518c
X-WR-CALDESC:
X-WR-RELCALID:447d0892148510e132e653dde3357a69
X-WR-TIMEZONE:America/New_York
BEGIN:VTIMEZONE
TZID:America/New_York
BEGIN:STANDARD
TZNAME:EST
DTSTART:20251102T020000
TZOFFSETFROM:-0400
TZOFFSETTO:-0500
RDATE:20261101T020000
RDATE:20271107T020000
END:STANDARD
BEGIN:DAYLIGHT
TZNAME:EDT
DTSTART:20260308T020000
TZOFFSETFROM:-0500
TZOFFSETTO:-0400
RDATE:20270314T020000
END:DAYLIGHT
END:VTIMEZONE
BEGIN:VEVENT
UID:1a364003-2ff6-4d1d-a755-2a0afc9f4153
DTSTAMP:20260423T090813Z
DESCRIPTION:
DTSTART;TZID=America/New_York:20260524T130000
DTEND;TZID=America/New_York:20260524T140000
LOCATION:120 Victory Boulevard\, Staten Island\, NY 10301 US
SUMMARY:Tea and Crochet
END:VEVENT
END:VCALENDAR
