BEGIN:VCALENDAR
VERSION:2.0
PRODID:-//www.health4youths.org//NONSGML kigkonsult.se iCalcreator 2.30.10/
 /
CALSCALE:GREGORIAN
METHOD:PUBLISH
UID:af752c8a-685e-4625-a492-cfa71b4f2707
X-WR-CALDESC:
X-WR-RELCALID:67a3320ac3ad3b6721684b73c5b01b9a
X-WR-TIMEZONE:America/New_York
BEGIN:VTIMEZONE
TZID:America/New_York
BEGIN:STANDARD
TZNAME:EST
DTSTART:20251102T020000
TZOFFSETFROM:-0400
TZOFFSETTO:-0500
RDATE:20261101T020000
RDATE:20271107T020000
END:STANDARD
BEGIN:DAYLIGHT
TZNAME:EDT
DTSTART:20260308T020000
TZOFFSETFROM:-0500
TZOFFSETTO:-0400
RDATE:20270314T020000
END:DAYLIGHT
END:VTIMEZONE
BEGIN:VEVENT
UID:c0bf2cb4-c4c5-4107-8cc3-befa7e21d7e1
DTSTAMP:20260421T105119Z
DESCRIPTION:
DTSTART;TZID=America/New_York:20260529T100000
DTEND;TZID=America/New_York:20260529T120000
LOCATION:120 Victory Boulevard\, Staten Island\, NY 10301 US
SUMMARY:Weekly Pantry at H.E.A.L.T.H for Youths
END:VEVENT
END:VCALENDAR
